BEGIN:VCALENDAR
VERSION:2.0
PRODID:-//Tukios.com/
BEGIN:VEVENT
UID:ecbed895-fb07-4465-afbe-b8df9c81869e@www.wadefh.com
DTSTAMP:20260421T160237Z
DTSTART:20260424T130000Z
DTEND:20260424T150000Z
SUMMARY:Visitation
DESCRIPTION:
URL:https://www.wadefh.com/obituaries/william-blaney
LOCATION:Wade Funeral Home 1002 Radcliffe Street  Bristol PA 19007
GEO:40.0993005;-74.8464948
END:VEVENT
END:VCALENDAR