BEGIN:VCALENDAR
VERSION:2.0
PRODID:-//Tukios.com/
BEGIN:VEVENT
UID:7a49de86-b735-4544-9998-c85374985c69@www.wadefh.com
DTSTAMP:20260421T155715Z
DTSTART:20260424T160000Z
DTEND:20260424T170000Z
SUMMARY:Interment
DESCRIPTION:
URL:https://www.wadefh.com/obituaries/william-blaney
LOCATION: 5201 Hulmeville Road  Bensalem PA 19020
GEO:40.1191534;-74.9222359
END:VEVENT
END:VCALENDAR