BEGIN:VCALENDAR
VERSION:2.0
PRODID:-//Tukios.com/
BEGIN:VEVENT
UID:3bb28743-4da3-4f3f-ae1c-f9105b703e22@www.wadefh.com
DTSTAMP:20260421T160222Z
DTSTART:20260424T150000Z
DTEND:20260424T160000Z
SUMMARY:Funeral Service
DESCRIPTION:
URL:https://www.wadefh.com/obituaries/william-blaney
LOCATION:Wade Funeral Home 1002 Radcliffe Street  Bristol PA 19007
GEO:40.0993005;-74.8464948
END:VEVENT
END:VCALENDAR