BEGIN:VCALENDAR
VERSION:2.0
PRODID:-//Tukios.com/
BEGIN:VEVENT
UID:621b87b4-72e9-4699-93f1-83c4dfd3479a@www.wadefh.com
DTSTAMP:20260423T202638Z
DTSTART:20260429T140000Z
DTEND:20260429T150000Z
SUMMARY:Visitation
DESCRIPTION:
URL:https://www.wadefh.com/obituaries/susan-pirollo
LOCATION:St. Ann Church 357 Dorrance Street  Bristol PA 19007
GEO:40.1004072;-74.8520793
END:VEVENT
END:VCALENDAR