BEGIN:VCALENDAR
VERSION:2.0
PRODID:-//Tukios.com/
BEGIN:VEVENT
UID:90599fd3-7aeb-436a-a2a6-a89aedcda07c@www.wadefh.com
DTSTAMP:20260423T202406Z
DTSTART:20260429T150000Z
DTEND:20260429T160000Z
SUMMARY:Mass
DESCRIPTION:
URL:https://www.wadefh.com/obituaries/susan-pirollo
LOCATION: 357 Dorrance Street  Bristol PA 19007
GEO:40.1004072;-74.8520793
END:VEVENT
END:VCALENDAR