BEGIN:VCALENDAR
VERSION:2.0
PRODID:-//Tukios.com/
BEGIN:VEVENT
UID:47a073b9-dc7d-45d7-b1ab-f18fc108600a@www.wadefh.com
DTSTAMP:20260422T235504Z
DTSTART:20260502T140000Z
DTEND:20260502T160000Z
SUMMARY:Celebration of Life
DESCRIPTION:
URL:https://www.wadefh.com/obituaries/linda-trimble
LOCATION:Wade Funeral Home 1002 Radcliffe Street  Bristol PA 19007
GEO:40.0993005;-74.8464948
END:VEVENT
END:VCALENDAR