BEGIN:VCALENDAR
VERSION:2.0
PRODID:-//Tukios.com/
BEGIN:VEVENT
UID:5028e159-ad26-467e-b05a-a863b950a753@www.wadefh.com
DTSTAMP:20260420T221227Z
DTSTART:20260425T133000Z
DTEND:20260425T150000Z
SUMMARY:Visitation
DESCRIPTION:
URL:https://www.wadefh.com/obituaries/joanne-poploskie
LOCATION:Wade Funeral Home 1002 Radcliffe Street  Bristol PA 19007
GEO:40.0993005;-74.8464948
END:VEVENT
END:VCALENDAR