BEGIN:VCALENDAR
VERSION:2.0
PRODID:-//Tukios.com/
BEGIN:VEVENT
UID:25ad945a-7c47-4ac7-892f-c9e08feeed42@www.wadefh.com
DTSTAMP:20260420T220908Z
DTSTART:20260425T150000Z
DTEND:20260425T160000Z
SUMMARY:Funeral Service
DESCRIPTION:
URL:https://www.wadefh.com/obituaries/joanne-poploskie
LOCATION:Wade Funeral Home 1002 Radcliffe Street  Bristol PA 19007
GEO:40.0993005;-74.8464948
END:VEVENT
END:VCALENDAR